BEGIN:VCALENDAR
VERSION:2.0
PRODID:-//eventon.com NONSGML v1.0//EN
CALSCALE:GREGORIAN
METHOD:PUBLISH
BEGIN:VEVENT
UID:69e61be1e7908
DTSTAMP:20260420T122817Z
DTSTART:20231116T150000Z
DTEND:20231116T170000Z
LOCATION:
SUMMARY:Online-Workshop "Zeit- und Selbstmanagement"
DESCRIPTION:Online-Workshop "Zeit- und Selbstmanagement"\nhttps://www.campu
 skirche.org/events/online-workshop-zeit-und-selbstmanagement/
URL:https://www.campuskirche.org/events/online-workshop-zeit-und-selbstmanagement/
END:VEVENT
END:VCALENDAR