BEGIN:VCALENDAR
VERSION:2.0
PRODID:-//eventon.com NONSGML v1.0//EN
CALSCALE:GREGORIAN
METHOD:PUBLISH
BEGIN:VEVENT
UID:69e7d6df66702
DTSTAMP:20260421T195823Z
DTSTART:20201118T070000Z
DTEND:20201118T090000Z
LOCATION:
SUMMARY:Interaktives\,  digitales KHG Pub-Quiz
DESCRIPTION:Wir laden Euch um 20 Uhr wieder zu einem interaktiven digitalen
  Pub-Quiz ein. Ab 20 Uhr geht es auf live.khg-littenweiler.de los! Papier
  und Bleistift und was zu Essen richten\,  und mitmachen. Eine Anmeldung is
 t nicht nötig.\nhttps://www.campuskirche.org/events/interaktives-digitales
 -khg-pub-quiz/
URL:https://www.campuskirche.org/events/interaktives-digitales-khg-pub-quiz/
END:VEVENT
END:VCALENDAR