BEGIN:VCALENDAR
VERSION:2.0
PRODID:-//eventon.com NONSGML v1.0//EN
CALSCALE:GREGORIAN
METHOD:PUBLISH
BEGIN:VEVENT
UID:69e621811d788
DTSTAMP:20260420T125217Z
DTSTART:20201109T053000Z
DTEND:20201109T060000Z
LOCATION:campuskirche.org | live.khg-littenweiler.de
SUMMARY:â€žVom Lassen der Gewaltâ€œ â€“ Interview mit Herrn RA und Buchautor Ullrich Hahn
DESCRIPTION:Ein Impuls im Rahmen unserer Aktion â€žUmkehr zum Friedenâ€œ â€
 “ Die Ã–kumenische Friedensdekade vom 08.- 18. November 2020 â€žGewaltfreie
 s Leben und gewaltfreies Handeln bestehen vorrangig in der Kunst des Lassen
 s von Gewalt.â€œ â€“ so fasst der Klappentext das Buch von Rechtsanwalt Ulr
 ich Hahn aus Villingen-Schwenningen zusammen\,  der sich vorwiegend auf[..]
 \nhttps://www.campuskirche.org/events/vom-lassen-der-gewalt-interview-mit-h
 errn-ra-und-buchautor-ullrich-hahn/var/event_access
URL:https://www.campuskirche.org/events/vom-lassen-der-gewalt-interview-mit-herrn-ra-und-buchautor-ullrich-hahn/var/event_access
END:VEVENT
END:VCALENDAR