BEGIN:VCALENDAR
VERSION:2.0
PRODID:-//eventon.com NONSGML v1.0//EN
CALSCALE:GREGORIAN
METHOD:PUBLISH
BEGIN:VEVENT
UID:69e772c1e81a8
DTSTAMP:20260421T125113Z
DTSTART:20210421T173000Z
DTEND:20210421T181500Z
LOCATION:khg.live
SUMMARY:Semesteröffnungsgottesdienst | Auf khg.live
DESCRIPTION:Wir freuen uns\,  mit Euch das Sommersemester 2021 mit euch ein
 zuläuten! Feiert mit uns den Semestereröffnungsgottesdienst. Die Veransta
 ltung findet nicht in Präsenz statt. Schaltet euch über den Livestream ei
 n unter khg.live\nhttps://www.campuskirche.org/events/semesteroeffnungsgot
 tesdienst-auf-khg-live/var/event_access
URL:https://www.campuskirche.org/events/semesteroeffnungsgottesdienst-auf-khg-live/var/event_access
END:VEVENT
END:VCALENDAR