BEGIN:VCALENDAR
VERSION:2.0
PRODID:-//eventon.com NONSGML v1.0//EN
CALSCALE:GREGORIAN
METHOD:PUBLISH
BEGIN:VEVENT
UID:69e7d3177297c
DTSTAMP:20260421T194215Z
DTSTART:20210421T181500Z
DTEND:20210421T200000Z
LOCATION:https://www.wonder.me/r?id=8e22f06f-1fcc-4ae9-88f8-c31b921e2f55
SUMMARY:Sektempfang | Auf wonder.me
DESCRIPTION:Stoßt mit uns auf das neue Semester an! Trefft uns bei wonder.
 me . &nbsp;\nhttps://www.campuskirche.org/events/sektempfang-auf-wonder-me/
 var/event_access
URL:https://www.campuskirche.org/events/sektempfang-auf-wonder-me/var/event_access
END:VEVENT
END:VCALENDAR