BEGIN:VCALENDAR
VERSION:2.0
PRODID:-//eventon.com NONSGML v1.0//EN
CALSCALE:GREGORIAN
METHOD:PUBLISH
BEGIN:VEVENT
UID:69e60cbce547c
DTSTAMP:20260420T112340Z
DTSTART:20210516T080000Z
DTEND:20210516T093000Z
LOCATION:khg.live
SUMMARY:Eucharistie | Auf khg.live
DESCRIPTION:Schaltet euch ein unter khg.live\nhttps://www.campuskirche.org/
 events/eucharistie-auf-khg-live/var/event_access
URL:https://www.campuskirche.org/events/eucharistie-auf-khg-live/var/event_access
END:VEVENT
END:VCALENDAR